BEGIN:VCALENDAR
VERSION:2.0
PRODID:-//Tukios.com/
BEGIN:VEVENT
UID:b128b669-cc5e-4b9e-8bb2-8ece2531b687@www.sullivanshighland.com
DTSTAMP:20260422T224211Z
DTSTART:20260425T180000Z
DTEND:20260425T190000Z
SUMMARY:Memorial Service
DESCRIPTION:
URL:https://www.sullivanshighland.com/obituaries/sandra-scheer
LOCATION: 6181 Ramsey St  Fayetteville NC 28311
GEO:35.1501697;-78.8718582
END:VEVENT
END:VCALENDAR