BEGIN:VCALENDAR
VERSION:2.0
PRODID:-//Tukios.com/
BEGIN:VEVENT
UID:55e40525-4793-4845-99bb-261967483d30@www.sullivanshighland.com
DTSTAMP:20260422T223948Z
DTSTART:20260425T170000Z
DTEND:20260425T180000Z
SUMMARY:Visitation
DESCRIPTION:
URL:https://www.sullivanshighland.com/obituaries/sandra-scheer
LOCATION: 6181 Ramsey St  Fayetteville NC 28311
GEO:35.1501697;-78.8718582
END:VEVENT
END:VCALENDAR